BEGIN:VCALENDAR
VERSION:2.0
PRODID:-//American Property Owners Alliance - ECPv6.15.20//NONSGML v1.0//EN
CALSCALE:GREGORIAN
METHOD:PUBLISH
X-WR-CALNAME:American Property Owners Alliance
X-ORIGINAL-URL:https://propertyownersalliance.org
X-WR-CALDESC:Events for American Property Owners Alliance
REFRESH-INTERVAL;VALUE=DURATION:PT1H
X-Robots-Tag:noindex
X-PUBLISHED-TTL:PT1H
BEGIN:VTIMEZONE
TZID:America/New_York
BEGIN:DAYLIGHT
TZOFFSETFROM:-0500
TZOFFSETTO:-0400
TZNAME:EDT
DTSTART:20230312T070000
END:DAYLIGHT
BEGIN:STANDARD
TZOFFSETFROM:-0400
TZOFFSETTO:-0500
TZNAME:EST
DTSTART:20231105T060000
END:STANDARD
BEGIN:DAYLIGHT
TZOFFSETFROM:-0500
TZOFFSETTO:-0400
TZNAME:EDT
DTSTART:20240310T070000
END:DAYLIGHT
BEGIN:STANDARD
TZOFFSETFROM:-0400
TZOFFSETTO:-0500
TZNAME:EST
DTSTART:20241103T060000
END:STANDARD
BEGIN:DAYLIGHT
TZOFFSETFROM:-0500
TZOFFSETTO:-0400
TZNAME:EDT
DTSTART:20250309T070000
END:DAYLIGHT
BEGIN:STANDARD
TZOFFSETFROM:-0400
TZOFFSETTO:-0500
TZNAME:EST
DTSTART:20251102T060000
END:STANDARD
END:VTIMEZONE
BEGIN:VEVENT
DTSTART;TZID=America/New_York:20241214T140000
DTEND;TZID=America/New_York:20241214T170000
DTSTAMP:20260421T162606
CREATED:20251016T221237Z
LAST-MODIFIED:20260112T181905Z
UID:618-1734184800-1734195600@propertyownersalliance.org
SUMMARY:A Conversation on Homeownership and Generational Wealth: Little Rock
DESCRIPTION:Join leaders in the Little Rock community to discuss financial education and preparation for first time homebuyers. \nHomeownership is a vital investment in ourselves\, our family’s future\, and our communities. In order to ensure all Americans can access the dream of homeownership\, it is critical to educate first-time buyers and provide additional support in this increasingly challenging market. Please join the American Property Owners Alliance for a Conversation on Homeownership and Generational Wealth in Little Rock. \nKeynote Speaker: LaRese Purnell\, Managing Partner\, CLE Consulting \nPanel Discussion: Housing Affordability and Homeownership and How the Two Can Help Build Wealth! \nModerator: Colin Allen\, Executive Director of American Property Owners Alliance \nFollow APOA on X for live streaming of the event
URL:https://propertyownersalliance.org/events/a-conversation-on-homeownership-and-generational-wealth-little-rock/
ATTACH;FMTTYPE=image/jpeg:https://propertyownersalliance.org/wp-content/uploads/2025/12/https-cdn.evbuc_.com-images-915779243-1072187660633-1-original.20241211-182039.jpeg
END:VEVENT
END:VCALENDAR